BEGIN:VCALENDAR
VERSION:2.0
PRODID:-//Pater Karel Kapel - ECPv6.15.19//NONSGML v1.0//EN
CALSCALE:GREGORIAN
METHOD:PUBLISH
X-WR-CALNAME:Pater Karel Kapel
X-ORIGINAL-URL:https://paterkarelkapel.nl
X-WR-CALDESC:Evenementen voor Pater Karel Kapel
REFRESH-INTERVAL;VALUE=DURATION:PT1H
X-Robots-Tag:noindex
X-PUBLISHED-TTL:PT1H
BEGIN:VTIMEZONE
TZID:Europe/Amsterdam
BEGIN:DAYLIGHT
TZOFFSETFROM:+0100
TZOFFSETTO:+0200
TZNAME:CEST
DTSTART:20250330T010000
END:DAYLIGHT
BEGIN:STANDARD
TZOFFSETFROM:+0200
TZOFFSETTO:+0100
TZNAME:CET
DTSTART:20251026T010000
END:STANDARD
BEGIN:DAYLIGHT
TZOFFSETFROM:+0100
TZOFFSETTO:+0200
TZNAME:CEST
DTSTART:20260329T010000
END:DAYLIGHT
BEGIN:STANDARD
TZOFFSETFROM:+0200
TZOFFSETTO:+0100
TZNAME:CET
DTSTART:20261025T010000
END:STANDARD
BEGIN:DAYLIGHT
TZOFFSETFROM:+0100
TZOFFSETTO:+0200
TZNAME:CEST
DTSTART:20270328T010000
END:DAYLIGHT
BEGIN:STANDARD
TZOFFSETFROM:+0200
TZOFFSETTO:+0100
TZNAME:CET
DTSTART:20271031T010000
END:STANDARD
END:VTIMEZONE
BEGIN:VEVENT
DTSTART;TZID=Europe/Amsterdam:20260427T180000
DTEND;TZID=Europe/Amsterdam:20260427T183000
DTSTAMP:20260423T192304
CREATED:20260401T091413Z
LAST-MODIFIED:20260401T091631Z
UID:12583-1777312800-1777314600@paterkarelkapel.nl
SUMMARY:Eucharistieviering
DESCRIPTION:De eucharistieviering is de gedachtenis aan Jezus’ lijden\, dood en verrijzenis. In de eucharistie wordt gevierd dat Christus de uiteindelijke verlosser is en dat Hij met zijn bloed een nieuw verbond heeft bekrachtigd. Het is een heilige aangelegenheid met rituelen waardoor u daadwerkelijk het geluk kunt bereiken waartoe God ons heeft geroepen. U bent van harte welkom om deze viering bij te wonen!
URL:https://paterkarelkapel.nl/activiteit/eucharistieviering-270426/
LOCATION:Pater Karel Kapel\, Pater Karelweg 1\, Munstergeleen\, 6151 LB\, Nederland
CATEGORIES:Eucharistieviering
ATTACH;FMTTYPE=image/jpeg:https://paterkarelkapel.nl/wp-content/uploads/2018/02/Activiteit-eucherastieviering-paterkarelkapel.jpg
END:VEVENT
BEGIN:VEVENT
DTSTART;TZID=Europe/Amsterdam:20260430T180000
DTEND;TZID=Europe/Amsterdam:20260430T183000
DTSTAMP:20260423T192304
CREATED:20260401T091530Z
LAST-MODIFIED:20260401T091530Z
UID:12586-1777572000-1777573800@paterkarelkapel.nl
SUMMARY:Eucharistieviering
DESCRIPTION:De eucharistieviering is de gedachtenis aan Jezus’ lijden\, dood en verrijzenis. In de eucharistie wordt gevierd dat Christus de uiteindelijke verlosser is en dat Hij met zijn bloed een nieuw verbond heeft bekrachtigd. Het is een heilige aangelegenheid met rituelen waardoor u daadwerkelijk het geluk kunt bereiken waartoe God ons heeft geroepen. U bent van harte welkom om deze viering bij te wonen!
URL:https://paterkarelkapel.nl/activiteit/eucharistieviering-300426/
LOCATION:Pater Karel Kapel\, Pater Karelweg 1\, Munstergeleen\, 6151 LB\, Nederland
CATEGORIES:Eucharistieviering
ATTACH;FMTTYPE=image/jpeg:https://paterkarelkapel.nl/wp-content/uploads/2018/02/Activiteit-eucherastieviering-paterkarelkapel.jpg
END:VEVENT
END:VCALENDAR